BEGIN:VCALENDAR
VERSION:2.0
PRODID:-//Kaweah Maintenance - ECPv6.15.20//NONSGML v1.0//EN
CALSCALE:GREGORIAN
METHOD:PUBLISH
X-WR-CALNAME:Kaweah Maintenance
X-ORIGINAL-URL:https://kaweahmaintenance.com
X-WR-CALDESC:Events for Kaweah Maintenance
REFRESH-INTERVAL;VALUE=DURATION:PT1H
X-Robots-Tag:noindex
X-PUBLISHED-TTL:PT1H
BEGIN:VTIMEZONE
TZID:America/Los_Angeles
BEGIN:DAYLIGHT
TZOFFSETFROM:-0800
TZOFFSETTO:-0700
TZNAME:PDT
DTSTART:20250309T100000
END:DAYLIGHT
BEGIN:STANDARD
TZOFFSETFROM:-0700
TZOFFSETTO:-0800
TZNAME:PST
DTSTART:20251102T090000
END:STANDARD
BEGIN:DAYLIGHT
TZOFFSETFROM:-0800
TZOFFSETTO:-0700
TZNAME:PDT
DTSTART:20260308T100000
END:DAYLIGHT
BEGIN:STANDARD
TZOFFSETFROM:-0700
TZOFFSETTO:-0800
TZNAME:PST
DTSTART:20261101T090000
END:STANDARD
BEGIN:DAYLIGHT
TZOFFSETFROM:-0800
TZOFFSETTO:-0700
TZNAME:PDT
DTSTART:20270314T100000
END:DAYLIGHT
BEGIN:STANDARD
TZOFFSETFROM:-0700
TZOFFSETTO:-0800
TZNAME:PST
DTSTART:20271107T090000
END:STANDARD
END:VTIMEZONE
BEGIN:VEVENT
DTSTART;TZID=America/Los_Angeles:20260424T210000
DTEND;TZID=America/Los_Angeles:20260424T210000
DTSTAMP:20260424T051436
CREATED:20250630T170635Z
LAST-MODIFIED:20250630T170635Z
UID:10007202-1777064400-1777064400@kaweahmaintenance.com
SUMMARY:CA: VBS
DESCRIPTION:
URL:https://kaweahmaintenance.com/event/ca-vbs-17/2026-04-24/
END:VEVENT
BEGIN:VEVENT
DTSTART;TZID=America/Los_Angeles:20260427T040000
DTEND;TZID=America/Los_Angeles:20260427T040000
DTSTAMP:20260424T051436
CREATED:20260116T200710Z
LAST-MODIFIED:20260116T200710Z
UID:10007931-1777262400-1777262400@kaweahmaintenance.com
SUMMARY:AH: VTC
DESCRIPTION:
URL:https://kaweahmaintenance.com/event/ah-vtc/2026-04-27/
END:VEVENT
BEGIN:VEVENT
DTSTART;TZID=America/Los_Angeles:20260427T210000
DTEND;TZID=America/Los_Angeles:20260427T210000
DTSTAMP:20260424T051436
CREATED:20250630T170635Z
LAST-MODIFIED:20250630T170635Z
UID:10007203-1777323600-1777323600@kaweahmaintenance.com
SUMMARY:CA: VBS
DESCRIPTION:
URL:https://kaweahmaintenance.com/event/ca-vbs-17/2026-04-27/
END:VEVENT
BEGIN:VEVENT
DTSTART;TZID=America/Los_Angeles:20260428T210000
DTEND;TZID=America/Los_Angeles:20260428T210000
DTSTAMP:20260424T051436
CREATED:20260101T193431Z
LAST-MODIFIED:20260101T193552Z
UID:10007764-1777410000-1777410000@kaweahmaintenance.com
SUMMARY:CA: VTC/VBS
DESCRIPTION:
URL:https://kaweahmaintenance.com/event/ca-vtc/2026-04-28/
END:VEVENT
BEGIN:VEVENT
DTSTART;TZID=America/Los_Angeles:20260428T210000
DTEND;TZID=America/Los_Angeles:20260428T210000
DTSTAMP:20260424T051436
CREATED:20260101T195106Z
LAST-MODIFIED:20260101T195106Z
UID:10007816-1777410000-1777410000@kaweahmaintenance.com
SUMMARY:MM: VTC/VBS
DESCRIPTION:
URL:https://kaweahmaintenance.com/event/mm-vtc-vbs-14/2026-04-28/
END:VEVENT
BEGIN:VEVENT
DTSTART;TZID=America/Los_Angeles:20260429T210000
DTEND;TZID=America/Los_Angeles:20260429T210000
DTSTAMP:20260424T051436
CREATED:20250630T170635Z
LAST-MODIFIED:20250630T170635Z
UID:10007204-1777496400-1777496400@kaweahmaintenance.com
SUMMARY:CA: VBS
DESCRIPTION:
URL:https://kaweahmaintenance.com/event/ca-vbs-17/2026-04-29/
END:VEVENT
BEGIN:VEVENT
DTSTART;TZID=America/Los_Angeles:20260430T210000
DTEND;TZID=America/Los_Angeles:20260430T210000
DTSTAMP:20260424T051436
CREATED:20260101T193431Z
LAST-MODIFIED:20260101T193552Z
UID:10007765-1777582800-1777582800@kaweahmaintenance.com
SUMMARY:CA: VTC/VBS
DESCRIPTION:
URL:https://kaweahmaintenance.com/event/ca-vtc/2026-04-30/
END:VEVENT
BEGIN:VEVENT
DTSTART;TZID=America/Los_Angeles:20260430T210000
DTEND;TZID=America/Los_Angeles:20260430T210000
DTSTAMP:20260424T051436
CREATED:20260101T195106Z
LAST-MODIFIED:20260101T195106Z
UID:10007817-1777582800-1777582800@kaweahmaintenance.com
SUMMARY:MM: VTC/VBS
DESCRIPTION:
URL:https://kaweahmaintenance.com/event/mm-vtc-vbs-14/2026-04-30/
END:VEVENT
END:VCALENDAR